Package: crumblr Version: 1.3.0 Command: /Library/Frameworks/R.framework/Resources/bin/R CMD INSTALL crumblr StartedAt: 2025-11-13 15:33:13 -0500 (Thu, 13 Nov 2025) EndedAt: 2025-11-13 15:33:25 -0500 (Thu, 13 Nov 2025) EllapsedTime: 12.4 seconds RetCode: 0 Status: OK