Package: crumblr Version: 1.3.0 Command: /Library/Frameworks/R.framework/Resources/bin/R CMD build --keep-empty-dirs --no-resave-data crumblr StartedAt: 2025-11-13 16:05:01 -0500 (Thu, 13 Nov 2025) EndedAt: 2025-11-13 16:05:46 -0500 (Thu, 13 Nov 2025) EllapsedTime: 45.5 seconds RetCode: 0 Status: OK PackageFile: crumblr_1.3.0.tar.gz PackageFileSize: 1.83 MiB