Package: crumblr Version: 1.3.0 Command: rm -rf crumblr.buildbin-libdir && mkdir crumblr.buildbin-libdir && /Users/biocbuild/BBS/utils/build-universal.sh crumblr_1.3.0.tar.gz /Library/Frameworks/R.framework/Resources/bin/R crumblr.buildbin-libdir StartedAt: 2025-11-14 23:28:44 -0500 (Fri, 14 Nov 2025) EndedAt: 2025-11-14 23:29:01 -0500 (Fri, 14 Nov 2025) EllapsedTime: 16.4 seconds RetCode: 0 Status: OK PackageFile: crumblr_1.3.0.tgz PackageFileSize: 1.884 MiB