Package: crossmeta Version: 1.33.1 Command: /Library/Frameworks/R.framework/Resources/bin/R CMD INSTALL crossmeta StartedAt: 2025-02-16 15:20:48 -0500 (Sun, 16 Feb 2025) EndedAt: 2025-02-16 15:20:49 -0500 (Sun, 16 Feb 2025) EllapsedTime: 1.2 seconds RetCode: 1 Status: ERROR