Package: crossmeta Version: 1.33.1 Command: /Library/Frameworks/R.framework/Resources/bin/R CMD build --keep-empty-dirs --no-resave-data crossmeta StartedAt: 2025-02-16 15:54:32 -0500 (Sun, 16 Feb 2025) EndedAt: 2025-02-16 15:54:33 -0500 (Sun, 16 Feb 2025) EllapsedTime: 1.0 seconds RetCode: 1 Status: ERROR PackageFile: None PackageFileSize: NA