Package: crlmm Version: 1.67.0 Command: chmod a+r crlmm -R && F:\biocbuild\bbs-3.22-bioc\R\bin\R.exe CMD build --keep-empty-dirs --no-resave-data crlmm StartedAt: 2025-08-14 19:22:45 -0400 (Thu, 14 Aug 2025) EndedAt: 2025-08-14 19:26:02 -0400 (Thu, 14 Aug 2025) EllapsedTime: 196.9 seconds RetCode: 0 Status: OK PackageFile: crlmm_1.67.0.tar.gz PackageFileSize: 4.093 MiB