Package: crlmm Version: 1.67.0 Command: rm -rf crlmm.buildbin-libdir && mkdir crlmm.buildbin-libdir && F:\biocbuild\bbs-3.22-bioc\R\bin\R.exe CMD INSTALL --build --library=crlmm.buildbin-libdir crlmm_1.67.0.tar.gz StartedAt: 2025-08-15 10:03:12 -0400 (Fri, 15 Aug 2025) EndedAt: 2025-08-15 10:05:15 -0400 (Fri, 15 Aug 2025) EllapsedTime: 123.7 seconds RetCode: 0 Status: OK PackageFile: crlmm_1.67.0.zip PackageFileSize: 5.024 MiB