Package: crlmm Version: 1.65.0 Command: E:\biocbuild\bbs-3.21-bioc\R\bin\R.exe CMD INSTALL crlmm StartedAt: 2025-02-16 16:20:08 -0500 (Sun, 16 Feb 2025) EndedAt: 2025-02-16 16:20:12 -0500 (Sun, 16 Feb 2025) EllapsedTime: 4.0 seconds RetCode: 1 Status: ERROR