Package: crlmm Version: 1.67.0 Command: /home/biocbuild/bbs-3.22-bioc/R/bin/R CMD INSTALL crlmm StartedAt: 2025-10-03 15:29:04 -0400 (Fri, 03 Oct 2025) EndedAt: 2025-10-03 15:29:45 -0400 (Fri, 03 Oct 2025) EllapsedTime: 41.5 seconds RetCode: 0 Status: OK