Package: crlmm Version: 1.67.0 Command: /home/biocbuild/bbs-3.22-bioc/R/bin/R CMD build --keep-empty-dirs --no-resave-data --md5 crlmm StartedAt: 2025-10-03 17:02:35 -0400 (Fri, 03 Oct 2025) EndedAt: 2025-10-03 17:05:13 -0400 (Fri, 03 Oct 2025) EllapsedTime: 157.1 seconds RetCode: 0 Status: OK PackageFile: crlmm_1.67.0.tar.gz PackageFileSize: 4.28 MiB