Package: crlmm Version: 1.69.0 Command: rm -rf crlmm.buildbin-libdir && mkdir crlmm.buildbin-libdir && /Users/biocbuild/BBS/utils/build-universal.sh crlmm_1.69.0.tar.gz /Library/Frameworks/R.framework/Resources/bin/R crlmm.buildbin-libdir StartedAt: 2025-11-12 20:55:17 -0500 (Wed, 12 Nov 2025) EndedAt: 2025-11-12 20:55:35 -0500 (Wed, 12 Nov 2025) EllapsedTime: 17.3 seconds RetCode: 0 Status: OK PackageFile: crlmm_1.69.0.tgz PackageFileSize: 5.199 MiB