Package: crisprViz Version: 1.11.1 Command: F:\biocbuild\bbs-3.22-bioc\R\bin\R.exe CMD INSTALL crisprViz StartedAt: 2025-08-14 16:46:35 -0400 (Thu, 14 Aug 2025) EndedAt: 2025-08-14 16:47:40 -0400 (Thu, 14 Aug 2025) EllapsedTime: 64.4 seconds RetCode: 0 Status: OK