Package: crisprViz Version: 1.11.1 Command: chmod a+r crisprViz -R && F:\biocbuild\bbs-3.22-bioc\R\bin\R.exe CMD build --keep-empty-dirs --no-resave-data crisprViz StartedAt: 2025-08-14 19:22:43 -0400 (Thu, 14 Aug 2025) EndedAt: 2025-08-14 19:25:52 -0400 (Thu, 14 Aug 2025) EllapsedTime: 189.0 seconds RetCode: 0 Status: OK PackageFile: crisprViz_1.11.1.tar.gz PackageFileSize: 689.6 KiB