############################################################################## ############################################################################## ### ### Running command: ### ### /Library/Frameworks/R.framework/Resources/bin/R CMD INSTALL crisprViz ### ############################################################################## ############################################################################## * installing to library ‘/Library/Frameworks/R.framework/Versions/4.5-x86_64/Resources/library’ * installing *source* package ‘crisprViz’ ... ** this is package ‘crisprViz’ version ‘1.11.0’ ** using staged installation ** R ** data ** inst ** byte-compile and prepare package for lazy loading Error: package or namespace load failed for ‘crisprDesign’: object ‘activateEnvironment’ is not exported by 'namespace:basilisk.utils' Execution halted ERROR: lazy loading failed for package ‘crisprViz’ * removing ‘/Library/Frameworks/R.framework/Versions/4.5-x86_64/Resources/library/crisprViz’ * restoring previous ‘/Library/Frameworks/R.framework/Versions/4.5-x86_64/Resources/library/crisprViz’