############################################################################## ############################################################################## ### ### Running command: ### ### /Library/Frameworks/R.framework/Resources/bin/R CMD build --keep-empty-dirs --no-resave-data crisprViz ### ############################################################################## ############################################################################## * checking for file ‘crisprViz/DESCRIPTION’ ... OK * preparing ‘crisprViz’: * checking DESCRIPTION meta-information ... OK * installing the package to build vignettes ----------------------------------- * installing *source* package ‘crisprViz’ ... ** this is package ‘crisprViz’ version ‘1.11.0’ ** using staged installation ** R ** data ** inst ** byte-compile and prepare package for lazy loading Error: package or namespace load failed for ‘crisprDesign’: object ‘activateEnvironment’ is not exported by 'namespace:basilisk.utils' Execution halted ERROR: lazy loading failed for package ‘crisprViz’ * removing ‘/private/tmp/RtmpXSVw0X/Rinst232e1fcf54c5/crisprViz’ ----------------------------------- ERROR: package installation failed