Package: crisprShiny Version: 1.5.1 Command: F:\biocbuild\bbs-3.22-bioc\R\bin\R.exe CMD INSTALL crisprShiny StartedAt: 2025-08-14 16:50:49 -0400 (Thu, 14 Aug 2025) EndedAt: 2025-08-14 16:52:00 -0400 (Thu, 14 Aug 2025) EllapsedTime: 70.9 seconds RetCode: 0 Status: OK