Package: crisprShiny Version: 1.5.1 Command: rm -rf crisprShiny.buildbin-libdir && mkdir crisprShiny.buildbin-libdir && /Users/biocbuild/BBS/utils/build-universal.sh crisprShiny_1.5.1.tar.gz /Library/Frameworks/R.framework/Resources/bin/R crisprShiny.buildbin-libdir StartedAt: 2025-10-08 22:43:56 -0400 (Wed, 08 Oct 2025) EndedAt: 2025-10-08 22:44:19 -0400 (Wed, 08 Oct 2025) EllapsedTime: 22.4 seconds RetCode: 0 Status: OK PackageFile: crisprShiny_1.5.1.tgz PackageFileSize: 1.29 MiB