Package: crisprScore Version: 1.13.1 Command: /home/biocbuild/bbs-3.22-bioc/R/bin/R CMD INSTALL crisprScore StartedAt: 2025-10-01 15:32:58 -0400 (Wed, 01 Oct 2025) EndedAt: 2025-10-01 15:33:17 -0400 (Wed, 01 Oct 2025) EllapsedTime: 19.4 seconds RetCode: 0 Status: OK