Package: crisprScore Version: 1.11.0 Command: rm -rf crisprScore.buildbin-libdir && mkdir crisprScore.buildbin-libdir && /Users/biocbuild/BBS/utils/build-universal.sh crisprScore_1.11.0.tar.gz /Library/Frameworks/R.framework/Resources/bin/R crisprScore.buildbin-libdir StartedAt: 2025-01-31 22:12:46 -0500 (Fri, 31 Jan 2025) EndedAt: 2025-01-31 22:12:56 -0500 (Fri, 31 Jan 2025) EllapsedTime: 9.1 seconds RetCode: 0 Status: OK PackageFile: crisprScore_1.11.0.tgz PackageFileSize: 4.399 MiB