Package: crisprDesign Version: 1.11.1 Command: chmod a+r crisprDesign -R && F:\biocbuild\bbs-3.22-bioc\R\bin\R.exe CMD build --keep-empty-dirs --no-resave-data crisprDesign StartedAt: 2025-08-14 19:21:28 -0400 (Thu, 14 Aug 2025) EndedAt: 2025-08-14 19:24:22 -0400 (Thu, 14 Aug 2025) EllapsedTime: 173.5 seconds RetCode: 0 Status: OK PackageFile: crisprDesign_1.11.1.tar.gz PackageFileSize: 2.609 MiB