Package: crisprDesign Version: 1.11.1 Command: rm -rf crisprDesign.buildbin-libdir && mkdir crisprDesign.buildbin-libdir && F:\biocbuild\bbs-3.22-bioc\R\bin\R.exe CMD INSTALL --build --library=crisprDesign.buildbin-libdir crisprDesign_1.11.1.tar.gz StartedAt: 2025-08-15 10:02:49 -0400 (Fri, 15 Aug 2025) EndedAt: 2025-08-15 10:06:41 -0400 (Fri, 15 Aug 2025) EllapsedTime: 231.9 seconds RetCode: 0 Status: OK PackageFile: crisprDesign_1.11.1.zip PackageFileSize: 3.611 MiB