Package: crisprDesign Version: 1.9.0 Command: /Library/Frameworks/R.framework/Resources/bin/R CMD INSTALL crisprDesign StartedAt: 2025-02-05 15:22:47 -0500 (Wed, 05 Feb 2025) EndedAt: 2025-02-05 15:23:54 -0500 (Wed, 05 Feb 2025) EllapsedTime: 66.9 seconds RetCode: 0 Status: OK