Package: crisprDesign Version: 1.9.0 Command: /Library/Frameworks/R.framework/Resources/bin/R CMD check --install=check:crisprDesign.install-out.txt --library=/Library/Frameworks/R.framework/Resources/library --no-vignettes --timings crisprDesign_1.9.0.tar.gz StartedAt: 2025-02-03 19:51:15 -0500 (Mon, 03 Feb 2025) EndedAt: 2025-02-03 20:01:22 -0500 (Mon, 03 Feb 2025) EllapsedTime: 606.5 seconds RetCode: 0 Status: OK CheckDir: crisprDesign.Rcheck Warnings: 0