Package: crisprDesign Version: 1.9.0 Command: /Library/Frameworks/R.framework/Resources/bin/R CMD build --keep-empty-dirs --no-resave-data crisprDesign StartedAt: 2025-02-03 16:26:48 -0500 (Mon, 03 Feb 2025) EndedAt: 2025-02-03 16:28:28 -0500 (Mon, 03 Feb 2025) EllapsedTime: 99.4 seconds RetCode: 0 Status: OK PackageFile: crisprDesign_1.9.0.tar.gz PackageFileSize: 2.562 MiB