Package: crisprDesign Version: 1.9.0 Command: rm -rf crisprDesign.buildbin-libdir && mkdir crisprDesign.buildbin-libdir && /Users/biocbuild/BBS/utils/build-universal.sh crisprDesign_1.9.0.tar.gz /Library/Frameworks/R.framework/Resources/bin/R crisprDesign.buildbin-libdir StartedAt: 2025-02-06 00:25:32 -0500 (Thu, 06 Feb 2025) EndedAt: 2025-02-06 00:26:43 -0500 (Thu, 06 Feb 2025) EllapsedTime: 71.5 seconds RetCode: 0 Status: OK PackageFile: crisprDesign_1.9.0.tgz PackageFileSize: 3.542 MiB