Package: crisprDesign Version: 1.11.0 Command: /Library/Frameworks/R.framework/Resources/bin/R CMD INSTALL crisprDesign StartedAt: 2025-05-04 15:22:23 -0400 (Sun, 04 May 2025) EndedAt: 2025-05-04 15:22:45 -0400 (Sun, 04 May 2025) EllapsedTime: 21.6 seconds RetCode: 0 Status: OK