Package: crisprDesign Version: 1.11.0 Command: /Library/Frameworks/R.framework/Resources/bin/R CMD check --install=check:crisprDesign.install-out.txt --library=/Library/Frameworks/R.framework/Resources/library --no-vignettes --timings crisprDesign_1.11.0.tar.gz StartedAt: 2025-05-05 19:24:08 -0400 (Mon, 05 May 2025) EndedAt: 2025-05-05 19:27:57 -0400 (Mon, 05 May 2025) EllapsedTime: 229.6 seconds RetCode: 0 Status: OK CheckDir: crisprDesign.Rcheck Warnings: 0