Package: crisprDesign Version: 1.11.0 Command: /Library/Frameworks/R.framework/Resources/bin/R CMD build --keep-empty-dirs --no-resave-data crisprDesign StartedAt: 2025-05-05 16:31:10 -0400 (Mon, 05 May 2025) EndedAt: 2025-05-05 16:31:54 -0400 (Mon, 05 May 2025) EllapsedTime: 44.5 seconds RetCode: 0 Status: OK PackageFile: crisprDesign_1.11.0.tar.gz PackageFileSize: 2.609 MiB