Package: crisprBowtie Version: 1.13.1 Command: F:\biocbuild\bbs-3.22-bioc\R\bin\R.exe CMD INSTALL crisprBowtie StartedAt: 2025-08-14 16:25:39 -0400 (Thu, 14 Aug 2025) EndedAt: 2025-08-14 16:26:27 -0400 (Thu, 14 Aug 2025) EllapsedTime: 47.9 seconds RetCode: 0 Status: OK