Package: crisprBowtie Version: 1.13.0 Command: /Library/Frameworks/R.framework/Resources/bin/R CMD build --keep-empty-dirs --no-resave-data crisprBowtie StartedAt: 2025-05-15 16:30:41 -0400 (Thu, 15 May 2025) EndedAt: 2025-05-15 16:31:30 -0400 (Thu, 15 May 2025) EllapsedTime: 49.2 seconds RetCode: 0 Status: OK PackageFile: crisprBowtie_1.13.0.tar.gz PackageFileSize: 319.2 KiB