Package: crisprBase Version: 1.11.0 Command: /Library/Frameworks/R.framework/Resources/bin/R CMD check --install=check:crisprBase.install-out.txt --library=/Library/Frameworks/R.framework/Resources/library --no-vignettes --timings crisprBase_1.11.0.tar.gz StartedAt: 2025-02-16 19:39:53 -0500 (Sun, 16 Feb 2025) EndedAt: 2025-02-16 19:41:41 -0500 (Sun, 16 Feb 2025) EllapsedTime: 108.0 seconds RetCode: 0 Status: OK CheckDir: crisprBase.Rcheck Warnings: 0