Package: cqn Version: 1.55.0 Command: /home/biocbuild/R/R/bin/R CMD build --keep-empty-dirs --no-resave-data cqn StartedAt: 2025-09-29 23:10:10 -0000 (Mon, 29 Sep 2025) EndedAt: 2025-09-29 23:10:31 -0000 (Mon, 29 Sep 2025) EllapsedTime: 21.0 seconds RetCode: 0 Status: OK PackageFile: cqn_1.55.0.tar.gz PackageFileSize: 795.2 KiB