Package: cqn Version: 1.55.0 Command: rm -rf cqn.buildbin-libdir && mkdir cqn.buildbin-libdir && /Users/biocbuild/BBS/utils/build-universal.sh cqn_1.55.0.tar.gz /Library/Frameworks/R.framework/Resources/bin/R cqn.buildbin-libdir StartedAt: 2025-05-26 22:21:24 -0400 (Mon, 26 May 2025) EndedAt: 2025-05-26 22:21:27 -0400 (Mon, 26 May 2025) EllapsedTime: 3.0 seconds RetCode: 0 Status: OK PackageFile: cqn_1.55.0.tgz PackageFileSize: 1.059 MiB