Package: cpvSNP Version: 1.39.0 Command: E:\biocbuild\bbs-3.21-bioc\R\bin\R.exe CMD check --no-multiarch --install=check:cpvSNP.install-out.txt --library=E:\biocbuild\bbs-3.21-bioc\R\library --no-vignettes --timings cpvSNP_1.39.0.tar.gz StartedAt: 2025-02-16 23:52:02 -0500 (Sun, 16 Feb 2025) EndedAt: 2025-02-16 23:58:43 -0500 (Sun, 16 Feb 2025) EllapsedTime: 401.4 seconds RetCode: 0 Status: OK CheckDir: cpvSNP.Rcheck Warnings: 0