Package: cpvSNP Version: 1.41.0 Command: /home/biocbuild/bbs-3.22-bioc/R/bin/R CMD INSTALL cpvSNP StartedAt: 2025-10-23 15:46:02 -0400 (Thu, 23 Oct 2025) EndedAt: 2025-10-23 15:46:51 -0400 (Thu, 23 Oct 2025) EllapsedTime: 49.2 seconds RetCode: 0 Status: OK