Package: cpvSNP Version: 1.39.0 Command: /home/biocbuild/bbs-3.21-bioc/R/bin/R CMD INSTALL cpvSNP StartedAt: 2025-02-16 15:47:18 -0500 (Sun, 16 Feb 2025) EndedAt: 2025-02-16 15:47:56 -0500 (Sun, 16 Feb 2025) EllapsedTime: 37.9 seconds RetCode: 0 Status: OK