Package: cpvSNP Version: 1.39.0 Command: /Library/Frameworks/R.framework/Resources/bin/R CMD build --keep-empty-dirs --no-resave-data cpvSNP StartedAt: 2025-02-16 16:18:13 -0500 (Sun, 16 Feb 2025) EndedAt: 2025-02-16 16:19:17 -0500 (Sun, 16 Feb 2025) EllapsedTime: 63.9 seconds RetCode: 0 Status: OK PackageFile: cpvSNP_1.39.0.tar.gz PackageFileSize: 2.006 MiB