Package: cpvSNP Version: 1.39.0 Command: /Library/Frameworks/R.framework/Resources/bin/R CMD INSTALL cpvSNP StartedAt: 2025-02-19 15:09:45 -0500 (Wed, 19 Feb 2025) EndedAt: 2025-02-19 15:10:00 -0500 (Wed, 19 Feb 2025) EllapsedTime: 15.2 seconds RetCode: 0 Status: OK