Package: cpvSNP Version: 1.41.0 Maintainer: Caitlin McHugh MaintainerEmail: mchughc at uw.edu git_url: https://git.bioconductor.org/packages/cpvSNP git_branch: devel git_last_commit: 38db970 git_last_commit_date: 2025-04-15 10:36:49 -0400 (Tue, 15 Apr 2025)