Package: covRNA Version: 1.35.0 Command: /home/biocbuild/bbs-3.22-bioc/R/bin/R CMD build --keep-empty-dirs --no-resave-data --md5 covRNA StartedAt: 2025-10-03 16:58:45 -0400 (Fri, 03 Oct 2025) EndedAt: 2025-10-03 16:59:48 -0400 (Fri, 03 Oct 2025) EllapsedTime: 63.1 seconds RetCode: 0 Status: OK PackageFile: covRNA_1.35.0.tar.gz PackageFileSize: 567 KiB