Package: covEB Version: 1.35.0 Command: /home/biocbuild/bbs-3.22-bioc/R/bin/R CMD INSTALL covEB StartedAt: 2025-10-03 15:11:36 -0400 (Fri, 03 Oct 2025) EndedAt: 2025-10-03 15:11:42 -0400 (Fri, 03 Oct 2025) EllapsedTime: 6.2 seconds RetCode: 0 Status: OK