Package: countsimQC Version: 1.27.1 Command: rm -rf countsimQC.buildbin-libdir && mkdir countsimQC.buildbin-libdir && F:\biocbuild\bbs-3.22-bioc\R\bin\R.exe CMD INSTALL --build --library=countsimQC.buildbin-libdir countsimQC_1.27.1.tar.gz StartedAt: 2025-08-15 10:02:04 -0400 (Fri, 15 Aug 2025) EndedAt: 2025-08-15 10:03:12 -0400 (Fri, 15 Aug 2025) EllapsedTime: 68.0 seconds RetCode: 0 Status: OK PackageFile: countsimQC_1.27.1.zip PackageFileSize: 497.1 KiB