Package: cosmosR Version: 1.15.0 Command: /home/biocbuild/bbs-3.21-bioc/R/bin/R CMD INSTALL cosmosR StartedAt: 2025-02-09 15:28:56 -0500 (Sun, 09 Feb 2025) EndedAt: 2025-02-09 15:29:04 -0500 (Sun, 09 Feb 2025) EllapsedTime: 7.8 seconds RetCode: 0 Status: OK