Package: cosmosR Version: 1.15.0 Command: /Library/Frameworks/R.framework/Resources/bin/R CMD check --install=check:cosmosR.install-out.txt --library=/Library/Frameworks/R.framework/Resources/library --no-vignettes --timings cosmosR_1.15.0.tar.gz StartedAt: 2025-02-04 19:46:08 -0500 (Tue, 04 Feb 2025) EndedAt: 2025-02-04 19:47:42 -0500 (Tue, 04 Feb 2025) EllapsedTime: 94.0 seconds RetCode: 0 Status: OK CheckDir: cosmosR.Rcheck Warnings: 0