Package: cosmosR Version: 1.15.0 Command: /Library/Frameworks/R.framework/Resources/bin/R CMD build --keep-empty-dirs --no-resave-data cosmosR StartedAt: 2025-02-04 16:20:51 -0500 (Tue, 04 Feb 2025) EndedAt: 2025-02-04 16:21:11 -0500 (Tue, 04 Feb 2025) EllapsedTime: 20.6 seconds RetCode: 0 Status: OK PackageFile: cosmosR_1.15.0.tar.gz PackageFileSize: 3.365 MiB