Package: cosmiq Version: 1.43.0 Command: rm -rf cosmiq.buildbin-libdir && mkdir cosmiq.buildbin-libdir && F:\biocbuild\bbs-3.22-bioc\R\bin\R.exe CMD INSTALL --build --library=cosmiq.buildbin-libdir cosmiq_1.43.0.tar.gz StartedAt: 2025-08-15 10:01:56 -0400 (Fri, 15 Aug 2025) EndedAt: 2025-08-15 10:02:56 -0400 (Fri, 15 Aug 2025) EllapsedTime: 60.2 seconds RetCode: 0 Status: OK PackageFile: cosmiq_1.43.0.zip PackageFileSize: 297.2 KiB