Package: cosmiq Version: 1.45.0 Command: /home/biocbuild/bbs-3.23-bioc/R/bin/R CMD INSTALL cosmiq StartedAt: 2025-11-20 15:42:15 -0500 (Thu, 20 Nov 2025) EndedAt: 2025-11-20 15:42:57 -0500 (Thu, 20 Nov 2025) EllapsedTime: 41.4 seconds RetCode: 0 Status: OK