Package: cosmiq Version: 1.43.0 Command: /Library/Frameworks/R.framework/Resources/bin/R CMD build --keep-empty-dirs --no-resave-data cosmiq StartedAt: 2025-10-27 16:30:45 -0400 (Mon, 27 Oct 2025) EndedAt: 2025-10-27 16:33:27 -0400 (Mon, 27 Oct 2025) EllapsedTime: 162.3 seconds RetCode: 0 Status: OK PackageFile: cosmiq_1.43.0.tar.gz PackageFileSize: 540.7 KiB