Package: cosmiq Version: 1.43.0 Command: /Library/Frameworks/R.framework/Resources/bin/R CMD INSTALL cosmiq StartedAt: 2025-10-17 15:23:18 -0400 (Fri, 17 Oct 2025) EndedAt: 2025-10-17 15:23:36 -0400 (Fri, 17 Oct 2025) EllapsedTime: 17.6 seconds RetCode: 0 Status: OK