Package: cosmiq Version: 1.43.0 Command: /Library/Frameworks/R.framework/Resources/bin/R CMD build --keep-empty-dirs --no-resave-data cosmiq StartedAt: 2025-10-17 16:01:43 -0400 (Fri, 17 Oct 2025) EndedAt: 2025-10-17 16:02:52 -0400 (Fri, 17 Oct 2025) EllapsedTime: 68.7 seconds RetCode: 0 Status: OK PackageFile: cosmiq_1.43.0.tar.gz PackageFileSize: 541 KiB